BEGIN:VCALENDAR
VERSION:2.0
PRODID:-//ChurchTrac Software//ChurchTrac Online//EN
CALSCALE:GREGORIAN
METHOD:PUBLISH
BEGIN:VEVENT
DTSTART;TZID=America/Halifax:20251108T130000
DTEND;TZID=America/Halifax:20251108T150000
DTSTAMP:20251108T130000Z
UID:4oq6n03rhx0algk5y106g9m4vl86oek0@ctonline
SUMMARY:Next Chances Clothes Closet
RRULE:FREQ=MONTHLY;UNTIL=20261231;BYDAY=2SA
CREATED:20260423T121159Z
LAST-MODIFIED:20260423T121159Z
STATUS:CONFIRMED
TRANSP:TRANSPARENT
END:VEVENT
BEGIN:VEVENT
DTSTART;TZID=America/Halifax:20251125T180000
DTEND;TZID=America/Halifax:20251125T200000
DTSTAMP:20251125T180000Z
UID:6rw6qrl2qbqw77itpcn2dlh926yn220b@ctonline
SUMMARY:Next Chances Clothes Closet
RRULE:FREQ=MONTHLY;UNTIL=20261231;BYDAY=4TU
CREATED:20260423T121159Z
LAST-MODIFIED:20260423T121159Z
STATUS:CONFIRMED
TRANSP:TRANSPARENT
END:VEVENT
BEGIN:VEVENT
DTSTART;TZID=America/Halifax:20260205T100000
DTEND;TZID=America/Halifax:20260205T120000
DTSTAMP:20260205T100000Z
UID:547ye2l5ckg3f7dh3l3rh5cax7n42znt@ctonline
SUMMARY:WOW
RRULE:FREQ=MONTHLY;UNTIL=20260402;BYDAY=1TH
EXDATE;TZID=America/Halifax:20260205T100000
CREATED:20260423T121159Z
LAST-MODIFIED:20260423T121159Z
STATUS:CONFIRMED
TRANSP:TRANSPARENT
END:VEVENT
BEGIN:VEVENT
DTSTART;TZID=America/Halifax:20260219T100000
DTEND;TZID=America/Halifax:20260219T120000
DTSTAMP:20260219T100000Z
UID:p48o2w2t20uk7hfy9pkx89q2m5f53t4g@ctonline
SUMMARY:WOW
RRULE:FREQ=MONTHLY;UNTIL=20260416;BYDAY=3TH
CREATED:20260423T121159Z
LAST-MODIFIED:20260423T121159Z
STATUS:CONFIRMED
TRANSP:TRANSPARENT
END:VEVENT
BEGIN:VEVENT
DTSTART;TZID=America/Halifax:20260225T190000
DTEND;TZID=America/Halifax:20260225T201500
DTSTAMP:20260225T190000Z
UID:mwcedy0qkcw8ov0n3wb1mmgqpbe4a0jv@ctonline
SUMMARY:AWANA & On Point Teens Group
CREATED:20260423T121159Z
LAST-MODIFIED:20260423T121159Z
STATUS:CONFIRMED
TRANSP:TRANSPARENT
END:VEVENT
BEGIN:VEVENT
DTSTART;TZID=America/Halifax:20260301T094500
DTEND;TZID=America/Halifax:20260301T104500
DTSTAMP:20260301T094500Z
UID:0xwaatelezdmm2lk9hsjw6p0wawivly3@ctonline
SUMMARY:Bible Fellowship Classes
CREATED:20260423T121159Z
LAST-MODIFIED:20260423T121159Z
STATUS:CONFIRMED
TRANSP:TRANSPARENT
END:VEVENT
BEGIN:VEVENT
DTSTART;TZID=America/Halifax:20260308T094500
DTEND;TZID=America/Halifax:20260308T104500
DTSTAMP:20260308T094500Z
UID:krvme03hiht2ijp5o7swe2a47avaqx4a@ctonline
SUMMARY:Bible Fellowship Classes
CREATED:20260423T121159Z
LAST-MODIFIED:20260423T121159Z
STATUS:CONFIRMED
TRANSP:TRANSPARENT
END:VEVENT
BEGIN:VEVENT
DTSTART;TZID=America/Halifax:20260315T094500
DTEND;TZID=America/Halifax:20260315T104500
DTSTAMP:20260315T094500Z
UID:fhyorhcuk98lfjv3qovr7w9h26ce8foy@ctonline
SUMMARY:Bible Fellowship Classes
CREATED:20260423T121159Z
LAST-MODIFIED:20260423T121159Z
STATUS:CONFIRMED
TRANSP:TRANSPARENT
END:VEVENT
BEGIN:VEVENT
DTSTART;TZID=America/Halifax:20260322T094500
DTEND;TZID=America/Halifax:20260322T104500
DTSTAMP:20260322T094500Z
UID:ujri5pyx5tvf4n7munzham9zxtpd1xti@ctonline
SUMMARY:Bible Fellowship Classes
CREATED:20260423T121159Z
LAST-MODIFIED:20260423T121159Z
STATUS:CONFIRMED
TRANSP:TRANSPARENT
END:VEVENT
BEGIN:VEVENT
DTSTART;TZID=America/Halifax:20260329T094500
DTEND;TZID=America/Halifax:20260329T104500
DTSTAMP:20260329T094500Z
UID:0bp8i06w8pljxknbg1r6mm25qzlunln7@ctonline
SUMMARY:Bible Fellowship Classes
CREATED:20260423T121159Z
LAST-MODIFIED:20260423T121159Z
STATUS:CONFIRMED
TRANSP:TRANSPARENT
END:VEVENT
BEGIN:VEVENT
DTSTART;TZID=America/Halifax:20260301T110000
DTEND;TZID=America/Halifax:20260301T120000
DTSTAMP:20260301T110000Z
UID:058giyuxmaf2ss4vtz7yexn1ng0dikqf@ctonline
SUMMARY:Sunday Morning Worship Service
CREATED:20260423T121159Z
LAST-MODIFIED:20260423T121159Z
STATUS:CONFIRMED
TRANSP:TRANSPARENT
END:VEVENT
BEGIN:VEVENT
DTSTART;TZID=America/Halifax:20260308T110000
DTEND;TZID=America/Halifax:20260308T120000
DTSTAMP:20260308T110000Z
UID:6r2t24xhxp2ewl675u7smtpnn9pzd1zd@ctonline
SUMMARY:Sunday Morning Worship Service with Robby Pollard
CREATED:20260423T121159Z
LAST-MODIFIED:20260423T121159Z
STATUS:CONFIRMED
TRANSP:TRANSPARENT
END:VEVENT
BEGIN:VEVENT
DTSTART;TZID=America/Halifax:20260315T110000
DTEND;TZID=America/Halifax:20260315T120000
DTSTAMP:20260315T110000Z
UID:yza3526zbljkml3d8o3b269jfq509zee@ctonline
SUMMARY:Sunday Morning Worship Service
CREATED:20260423T121159Z
LAST-MODIFIED:20260423T121159Z
STATUS:CONFIRMED
TRANSP:TRANSPARENT
END:VEVENT
BEGIN:VEVENT
DTSTART;TZID=America/Halifax:20260322T110000
DTEND;TZID=America/Halifax:20260322T120000
DTSTAMP:20260322T110000Z
UID:pl2hj1ctrzpfrzaev76fymjkctlrqeuc@ctonline
SUMMARY:Sunday Morning Worship Service
CREATED:20260423T121159Z
LAST-MODIFIED:20260423T121159Z
STATUS:CONFIRMED
TRANSP:TRANSPARENT
END:VEVENT
BEGIN:VEVENT
DTSTART;TZID=America/Halifax:20260329T110000
DTEND;TZID=America/Halifax:20260329T120000
DTSTAMP:20260329T110000Z
UID:tv4jl0mtx1tvtah5f2vvialbjhpce2oa@ctonline
SUMMARY:Sunday Morning Worship Service
CREATED:20260423T121159Z
LAST-MODIFIED:20260423T121159Z
STATUS:CONFIRMED
TRANSP:TRANSPARENT
END:VEVENT
BEGIN:VEVENT
DTSTART;TZID=America/Halifax:20260301T180000
DTEND;TZID=America/Halifax:20260301T190000
DTSTAMP:20260301T180000Z
UID:kb6gfduq35pw8464g4j0cfoyx5t3jrsb@ctonline
SUMMARY:Sunday Evening Family Worship Service
CREATED:20260423T121159Z
LAST-MODIFIED:20260423T121159Z
STATUS:CONFIRMED
TRANSP:TRANSPARENT
END:VEVENT
BEGIN:VEVENT
DTSTART;TZID=America/Halifax:20260315T180000
DTEND;TZID=America/Halifax:20260315T190000
DTSTAMP:20260315T180000Z
UID:9cborax66r4q76c57n4a2zht2recpzz0@ctonline
SUMMARY:Sunday Evening Family Worship Service
CREATED:20260423T121159Z
LAST-MODIFIED:20260423T121159Z
STATUS:CONFIRMED
TRANSP:TRANSPARENT
END:VEVENT
BEGIN:VEVENT
DTSTART;TZID=America/Halifax:20260322T180000
DTEND;TZID=America/Halifax:20260322T190000
DTSTAMP:20260322T180000Z
UID:nmttqxn18zvh6s8wrg32e5mqw97bs48p@ctonline
SUMMARY:Sunday Evening Family Worship Service
CREATED:20260423T121159Z
LAST-MODIFIED:20260423T121159Z
STATUS:CONFIRMED
TRANSP:TRANSPARENT
END:VEVENT
BEGIN:VEVENT
DTSTART;TZID=America/Halifax:20260329T180000
DTEND;TZID=America/Halifax:20260329T190000
DTSTAMP:20260329T180000Z
UID:deqdxet85hl8fb5z9qbn3m1fonk5o6mf@ctonline
SUMMARY:Sunday Evening Family Worship Service
CREATED:20260423T121159Z
LAST-MODIFIED:20260423T121159Z
STATUS:CONFIRMED
TRANSP:TRANSPARENT
END:VEVENT
BEGIN:VEVENT
DTSTART;TZID=America/Halifax:20260308T133000
DTEND;TZID=America/Halifax:20260308T143000
DTSTAMP:20260308T133000Z
UID:pp0tz0i4gakt6w81zhpy84d4o8nod3ue@ctonline
SUMMARY:Afternoon Service with Robby Pollard
CREATED:20260423T121159Z
LAST-MODIFIED:20260423T121159Z
STATUS:CONFIRMED
TRANSP:TRANSPARENT
END:VEVENT
BEGIN:VEVENT
DTSTART;TZID=America/Halifax:20260309T190000
DTEND;TZID=America/Halifax:20260309T200000
DTSTAMP:20260309T190000Z
UID:5m93juxh1lh9brzsoeg4xinjcpzbfuzg@ctonline
SUMMARY:"Ready for Harvest" with Robby Pollard
CREATED:20260423T121159Z
LAST-MODIFIED:20260423T121159Z
STATUS:CONFIRMED
TRANSP:TRANSPARENT
END:VEVENT
BEGIN:VEVENT
DTSTART;TZID=America/Halifax:20260307T190000
DTEND;TZID=America/Halifax:20260307T200000
DTSTAMP:20260307T190000Z
UID:l8vg1op0tg0jbt4snujtdfjt7g1h79ci@ctonline
SUMMARY:"Ready to Lead: Leaders in the Church"
CREATED:20260423T121159Z
LAST-MODIFIED:20260423T121159Z
STATUS:CONFIRMED
TRANSP:TRANSPARENT
END:VEVENT
BEGIN:VEVENT
DTSTART;TZID=America/Halifax:20260310T100000
DTEND;TZID=America/Halifax:20260310T140000
DTSTAMP:20260310T100000Z
UID:4ftao6w1deecpbqlkhq62mbnvj0aap03@ctonline
SUMMARY:MBBF Meeting
CREATED:20260423T121159Z
LAST-MODIFIED:20260423T121159Z
STATUS:CONFIRMED
TRANSP:TRANSPARENT
END:VEVENT
BEGIN:VEVENT
DTSTART;TZID=America/Halifax:20260304T190000
DTEND;TZID=America/Halifax:20260304T201500
DTSTAMP:20260304T190000Z
UID:5n3y998deuv553d2i7pzzh0tjwpxxj5j@ctonline
SUMMARY:AWANA & On Point Teens Group
CREATED:20260423T121159Z
LAST-MODIFIED:20260423T121159Z
STATUS:CONFIRMED
TRANSP:TRANSPARENT
END:VEVENT
BEGIN:VEVENT
DTSTART;TZID=America/Halifax:20260311T190000
DTEND;TZID=America/Halifax:20260311T201500
DTSTAMP:20260311T190000Z
UID:1tq3z2dnxc6r3egc935nm08uc4y3i49s@ctonline
SUMMARY:AWANA & On Point Teens Group
CREATED:20260423T121159Z
LAST-MODIFIED:20260423T121159Z
STATUS:CONFIRMED
TRANSP:TRANSPARENT
END:VEVENT
BEGIN:VEVENT
DTSTART;TZID=America/Halifax:20260318T190000
DTEND;TZID=America/Halifax:20260318T201500
DTSTAMP:20260318T190000Z
UID:bmm46awqyi40dwl6d3vzx01xc9wogkz9@ctonline
SUMMARY:AWANA & On Point Teens Group
CREATED:20260423T121159Z
LAST-MODIFIED:20260423T121159Z
STATUS:CONFIRMED
TRANSP:TRANSPARENT
END:VEVENT
BEGIN:VEVENT
DTSTART;TZID=America/Halifax:20260325T190000
DTEND;TZID=America/Halifax:20260325T201500
DTSTAMP:20260325T190000Z
UID:tcc2ddlikxytf25tuj9rqttksv9kgqjm@ctonline
SUMMARY:AWANA & On Point Teens Group
CREATED:20260423T121159Z
LAST-MODIFIED:20260423T121159Z
STATUS:CONFIRMED
TRANSP:TRANSPARENT
END:VEVENT
BEGIN:VEVENT
DTSTART;TZID=America/Halifax:20260314T113000
DTEND;TZID=America/Halifax:20260314T140000
DTSTAMP:20260314T113000Z
UID:fogc03awx15xmdu336pxncup7rnmeje6@ctonline
SUMMARY:On Point Teens: Activate Detroit
CREATED:20260423T121159Z
LAST-MODIFIED:20260423T121159Z
STATUS:CONFIRMED
TRANSP:TRANSPARENT
END:VEVENT
BEGIN:VEVENT
DTSTART;TZID=America/Halifax:20260328T080000
DTEND;TZID=America/Halifax:20260328T120000
DTSTAMP:20260328T080000Z
UID:s64dreptzjsi6dmg8dwcdwp96uallrxd@ctonline
SUMMARY:Ladies' Cleaning Day
CREATED:20260423T121159Z
LAST-MODIFIED:20260423T121159Z
STATUS:CONFIRMED
TRANSP:TRANSPARENT
END:VEVENT
BEGIN:VEVENT
DTSTART;VALUE=DATE:20260608
DTEND;VALUE=DATE:20260613
DTSTAMP:20260608T000000Z
UID:bfzbeffggjb7rd41dr2sekt1jrv9qw2b@ctonline
SUMMARY:On Point Teens: Teen Camp
CREATED:20260423T121159Z
LAST-MODIFIED:20260423T121159Z
STATUS:CONFIRMED
TRANSP:TRANSPARENT
END:VEVENT
BEGIN:VEVENT
DTSTART;TZID=America/Halifax:20260408T190000
DTEND;TZID=America/Halifax:20260408T201500
DTSTAMP:20260408T190000Z
UID:tcen1l6g1zmq4d30djxs5kokp54s0oug@ctonline
SUMMARY:AWANA & On Point Teens Group
CREATED:20260423T121159Z
LAST-MODIFIED:20260423T121159Z
STATUS:CONFIRMED
TRANSP:TRANSPARENT
END:VEVENT
BEGIN:VEVENT
DTSTART;TZID=America/Halifax:20260415T190000
DTEND;TZID=America/Halifax:20260415T201500
DTSTAMP:20260415T190000Z
UID:j8z5zqc3afuqvt9gykgiawq5j4myehkw@ctonline
SUMMARY:AWANA & On Point Teens Group
CREATED:20260423T121159Z
LAST-MODIFIED:20260423T121159Z
STATUS:CONFIRMED
TRANSP:TRANSPARENT
END:VEVENT
BEGIN:VEVENT
DTSTART;TZID=America/Halifax:20260422T190000
DTEND;TZID=America/Halifax:20260422T201500
DTSTAMP:20260422T190000Z
UID:rtcqcpfuhvsgdf5x9q9vvl3zysmichun@ctonline
SUMMARY:AWANA & On Point Teens Group
CREATED:20260423T121159Z
LAST-MODIFIED:20260423T121159Z
STATUS:CONFIRMED
TRANSP:TRANSPARENT
END:VEVENT
BEGIN:VEVENT
DTSTART;TZID=America/Halifax:20260429T190000
DTEND;TZID=America/Halifax:20260429T201500
DTSTAMP:20260429T190000Z
UID:mbxe9xsn65vmoon3oj2ratdh8ijjzj6l@ctonline
SUMMARY:AWANA & On Point Teens Group
CREATED:20260423T121159Z
LAST-MODIFIED:20260423T121159Z
STATUS:CONFIRMED
TRANSP:TRANSPARENT
END:VEVENT
BEGIN:VEVENT
DTSTART;TZID=America/Halifax:20260506T190000
DTEND;TZID=America/Halifax:20260506T201500
DTSTAMP:20260506T190000Z
UID:yob873v0d97i3ctlnsvkb7j2jfl8gpoi@ctonline
SUMMARY:AWANA & On Point Teens Group
CREATED:20260423T121159Z
LAST-MODIFIED:20260423T121159Z
STATUS:CONFIRMED
TRANSP:TRANSPARENT
END:VEVENT
BEGIN:VEVENT
DTSTART;TZID=America/Halifax:20260412T094500
DTEND;TZID=America/Halifax:20260412T104500
DTSTAMP:20260412T094500Z
UID:a3iww3y9btx7ot4xg3de99zo0bby9c5o@ctonline
SUMMARY:Bible Fellowship Classes
CREATED:20260423T121159Z
LAST-MODIFIED:20260423T121159Z
STATUS:CONFIRMED
TRANSP:TRANSPARENT
END:VEVENT
BEGIN:VEVENT
DTSTART;TZID=America/Halifax:20260419T094500
DTEND;TZID=America/Halifax:20260419T104500
DTSTAMP:20260419T094500Z
UID:6jb9p8vsrv50lx7stekw05kud6rbsq1y@ctonline
SUMMARY:Bible Fellowship Classes
CREATED:20260423T121159Z
LAST-MODIFIED:20260423T121159Z
STATUS:CONFIRMED
TRANSP:TRANSPARENT
END:VEVENT
BEGIN:VEVENT
DTSTART;TZID=America/Halifax:20260426T094500
DTEND;TZID=America/Halifax:20260426T104500
DTSTAMP:20260426T094500Z
UID:cnhvk64a4cwi4llb9jha2zbd6a6s4w3i@ctonline
SUMMARY:Bible Fellowship Classes
CREATED:20260423T121159Z
LAST-MODIFIED:20260423T121159Z
STATUS:CONFIRMED
TRANSP:TRANSPARENT
END:VEVENT
BEGIN:VEVENT
DTSTART;TZID=America/Halifax:20260503T094500
DTEND;TZID=America/Halifax:20260503T104500
DTSTAMP:20260503T094500Z
UID:hfz5g82nfy8vzolj3mge7edqcv4sw4a3@ctonline
SUMMARY:Bible Fellowship Classes
CREATED:20260423T121159Z
LAST-MODIFIED:20260423T121159Z
STATUS:CONFIRMED
TRANSP:TRANSPARENT
END:VEVENT
BEGIN:VEVENT
DTSTART;TZID=America/Halifax:20260405T110000
DTEND;TZID=America/Halifax:20260405T120000
DTSTAMP:20260405T110000Z
UID:ktahnhg1dks9gitmmpc1arlyi72sk9s5@ctonline
SUMMARY:Sunday Morning Worship Service
CREATED:20260423T121159Z
LAST-MODIFIED:20260423T121159Z
STATUS:CONFIRMED
TRANSP:TRANSPARENT
END:VEVENT
BEGIN:VEVENT
DTSTART;TZID=America/Halifax:20260412T110000
DTEND;TZID=America/Halifax:20260412T120000
DTSTAMP:20260412T110000Z
UID:uumt7ewipqw70gmi78y3notitzzbwflw@ctonline
SUMMARY:Sunday Morning Worship Service
CREATED:20260423T121159Z
LAST-MODIFIED:20260423T121159Z
STATUS:CONFIRMED
TRANSP:TRANSPARENT
END:VEVENT
BEGIN:VEVENT
DTSTART;TZID=America/Halifax:20260419T110000
DTEND;TZID=America/Halifax:20260419T120000
DTSTAMP:20260419T110000Z
UID:s3zucyxdrkqk47g8u6dg4qt27su3mtuz@ctonline
SUMMARY:Sunday Morning Worship Service
CREATED:20260423T121159Z
LAST-MODIFIED:20260423T121159Z
STATUS:CONFIRMED
TRANSP:TRANSPARENT
END:VEVENT
BEGIN:VEVENT
DTSTART;TZID=America/Halifax:20260426T110000
DTEND;TZID=America/Halifax:20260426T120000
DTSTAMP:20260426T110000Z
UID:8flbehbqgo9zy7bw7aftqcd38woew464@ctonline
SUMMARY:Sunday Morning Worship Service
CREATED:20260423T121159Z
LAST-MODIFIED:20260423T121159Z
STATUS:CONFIRMED
TRANSP:TRANSPARENT
END:VEVENT
BEGIN:VEVENT
DTSTART;TZID=America/Halifax:20260503T110000
DTEND;TZID=America/Halifax:20260503T120000
DTSTAMP:20260503T110000Z
UID:gv5ourvbpaknsiqa501evde3wirew628@ctonline
SUMMARY:Sunday Morning Worship Service
CREATED:20260423T121159Z
LAST-MODIFIED:20260423T121159Z
STATUS:CONFIRMED
TRANSP:TRANSPARENT
END:VEVENT
BEGIN:VEVENT
DTSTART;TZID=America/Halifax:20260412T180000
DTEND;TZID=America/Halifax:20260412T190000
DTSTAMP:20260412T180000Z
UID:3wxdtbqfyfjl07x461foqdi32255kjd3@ctonline
SUMMARY:Sunday Evening Family Worship Service
CREATED:20260423T121159Z
LAST-MODIFIED:20260423T121159Z
STATUS:CONFIRMED
TRANSP:TRANSPARENT
END:VEVENT
BEGIN:VEVENT
DTSTART;TZID=America/Halifax:20260419T180000
DTEND;TZID=America/Halifax:20260419T190000
DTSTAMP:20260419T180000Z
UID:dkxnn5g8v043gw9ahxhrccxumhjl6shx@ctonline
SUMMARY:Sunday Evening Family Worship Service
CREATED:20260423T121159Z
LAST-MODIFIED:20260423T121159Z
STATUS:CONFIRMED
TRANSP:TRANSPARENT
END:VEVENT
BEGIN:VEVENT
DTSTART;TZID=America/Halifax:20260426T180000
DTEND;TZID=America/Halifax:20260426T190000
DTSTAMP:20260426T180000Z
UID:60n271g03v41u6l9i0eo40apgx84xzxd@ctonline
SUMMARY:Sunday Evening Family Worship Service
CREATED:20260423T121159Z
LAST-MODIFIED:20260423T121159Z
STATUS:CONFIRMED
TRANSP:TRANSPARENT
END:VEVENT
BEGIN:VEVENT
DTSTART;TZID=America/Halifax:20260503T180000
DTEND;TZID=America/Halifax:20260503T190000
DTSTAMP:20260503T180000Z
UID:ansfg774pstdbj89w8rluh4yse1irnlu@ctonline
SUMMARY:Sunday Evening Family Worship Service
CREATED:20260423T121159Z
LAST-MODIFIED:20260423T121159Z
STATUS:CONFIRMED
TRANSP:TRANSPARENT
END:VEVENT
END:VCALENDAR